BEGIN:VCALENDAR
VERSION:2.0
PRODID:-//Shores Yoga - ECPv6.15.15//NONSGML v1.0//EN
CALSCALE:GREGORIAN
METHOD:PUBLISH
X-WR-CALNAME:Shores Yoga
X-ORIGINAL-URL:https://shoresyogastudio.com
X-WR-CALDESC:Events for Shores Yoga
REFRESH-INTERVAL;VALUE=DURATION:PT1H
X-Robots-Tag:noindex
X-PUBLISHED-TTL:PT1H
BEGIN:VTIMEZONE
TZID:UTC
BEGIN:STANDARD
TZOFFSETFROM:+0000
TZOFFSETTO:+0000
TZNAME:UTC
DTSTART:20240101T000000
END:STANDARD
END:VTIMEZONE
BEGIN:VEVENT
DTSTART;TZID=UTC:20250221T183000
DTEND;TZID=UTC:20250221T200000
DTSTAMP:20260421T221948
CREATED:20250131T175923Z
LAST-MODIFIED:20250131T180034Z
UID:4100-1740162600-1740168000@shoresyogastudio.com
SUMMARY:Breathwork Journey
DESCRIPTION:Unlock your inner peace by releasing old narratives and stepping into a more authentic version of yourself. In this guided breathwork journey\, you’ll be invited to soften the mind\, allowing the ego to take a backseat while the body and soul receive the healing they truly need. Through intentional breath and gentle guidance\, you’ll create space to let go of limiting beliefs\, reconnect with your inner wisdom\, and cultivate a sense of peace and joy that resonates far beyond the mat. \nJoin Carlie for this transformative experience and discover how the power of breath can help you live with greater ease\, authenticity\, and alignment. Whether you’re seeking emotional release\, mental clarity\, or a deeper connection to yourself\, this journey is an invitation to breathe\, release\, and renew. \nLocation: Shores Yoga Studio \nTicket Price: $33 \n  \nTICKETS ARE NON-REFUNDABLE \nSign Up \n 
URL:https://shoresyogastudio.com/event/breathwork-journey/
LOCATION:Shores Yoga Studio\, 23517 Nine Mack Drive Suite B\, St. Clair Shores\, MI\, 48080\, United States
CATEGORIES:Healing
ATTACH;FMTTYPE=image/png:https://shoresyogastudio.com/wp-content/uploads/2025/01/shores-yoga-breathwork-journey-1920-x-1005-px.png
END:VEVENT
END:VCALENDAR